git_url: https://git.bioconductor.org/packages/RTCGA.miRNASeq git_branch: RELEASE_3_17 git_last_commit: 3ac77fe git_last_commit_date: 2023-04-25 10:41:00 -0400 (Tue, 25 Apr 2023) Package: RTCGA.miRNASeq Version: 1.28.0 Maintainer: Marcin Kosinski MaintainerEmail: m.p.kosinski at gmail.com