Package: RTCGA.miRNASeq Version: 1.28.0 Command: /home/biocbuild/bbs-3.17-bioc/R/bin/R CMD INSTALL RTCGA.miRNASeq StartedAt: 2023-10-12 10:02:55 -0400 (Thu, 12 Oct 2023) EndedAt: 2023-10-12 10:05:11 -0400 (Thu, 12 Oct 2023) EllapsedTime: 135.4 seconds RetCode: 0 Status: OK