git_url: https://git.bioconductor.org/packages/WeberDivechaLCdata git_branch: RELEASE_3_17 git_last_commit: 28aa82b git_last_commit_date: 2023-04-25 10:51:54 -0400 (Tue, 25 Apr 2023) Package: WeberDivechaLCdata Version: 1.2.0 Maintainer: Lukas M. Weber MaintainerEmail: lukas.weber.edu at gmail.com