Package: WeberDivechaLCdata Version: 1.2.0 Command: /home/biocbuild/bbs-3.17-bioc/R/bin/R CMD build --keep-empty-dirs --no-resave-data WeberDivechaLCdata StartedAt: 2023-10-12 10:56:04 -0400 (Thu, 12 Oct 2023) EndedAt: 2023-10-12 10:57:55 -0400 (Thu, 12 Oct 2023) EllapsedTime: 111.1 seconds RetCode: 0 Status: OK PackageFile: WeberDivechaLCdata_1.2.0.tar.gz PackageFileSize: 223.6 KiB