Package: WeberDivechaLCdata Version: 1.2.0 Command: /home/biocbuild/bbs-3.17-bioc/R/bin/R CMD INSTALL WeberDivechaLCdata StartedAt: 2023-10-12 10:10:17 -0400 (Thu, 12 Oct 2023) EndedAt: 2023-10-12 10:10:50 -0400 (Thu, 12 Oct 2023) EllapsedTime: 33.1 seconds RetCode: 0 Status: OK