git_url: https://git.bioconductor.org/packages/benchmarkfdrData2019 git_branch: RELEASE_3_17 git_last_commit: f524ed1 git_last_commit_date: 2023-04-25 10:47:15 -0400 (Tue, 25 Apr 2023) Package: benchmarkfdrData2019 Version: 1.14.0 Maintainer: Stephanie Hicks MaintainerEmail: shicks19 at jhu.edu