git_url: https://git.bioconductor.org/packages/breastCancerMAINZ git_branch: RELEASE_3_17 git_last_commit: dc2bfae git_last_commit_date: 2023-04-25 09:52:54 -0400 (Tue, 25 Apr 2023) Package: breastCancerMAINZ Version: 1.38.0 Maintainer: Markus Schroeder , Benjamin Haibe-Kains MaintainerEmail: bhaibeka at jimmy.harvard.edu