git_url: https://git.bioconductor.org/packages/crisprScoreData git_branch: RELEASE_3_17 git_last_commit: d2addfb git_last_commit_date: 2023-04-25 10:51:19 -0400 (Tue, 25 Apr 2023) Package: crisprScoreData Version: 1.4.0 Maintainer: Jean-Philippe Fortin MaintainerEmail: fortin946 at gmail.com