git_url: https://git.bioconductor.org/packages/curatedOvarianData git_branch: RELEASE_3_17 git_last_commit: b8def4e git_last_commit_date: 2023-04-25 10:31:56 -0400 (Tue, 25 Apr 2023) Package: curatedOvarianData Version: 1.38.0 Maintainer: Levi Waldron MaintainerEmail: lwaldron.research at gmail.com