Package: curatedOvarianData Version: 1.38.0 Command: /home/biocbuild/bbs-3.17-bioc/R/bin/R CMD build --keep-empty-dirs --no-resave-data curatedOvarianData StartedAt: 2023-10-12 10:20:55 -0400 (Thu, 12 Oct 2023) EndedAt: 2023-10-12 10:23:23 -0400 (Thu, 12 Oct 2023) EllapsedTime: 148.0 seconds RetCode: 0 Status: OK PackageFile: curatedOvarianData_1.38.0.tar.gz PackageFileSize: 381.8 MiB