git_url: https://git.bioconductor.org/packages/faahKO git_branch: RELEASE_3_17 git_last_commit: e55b909 git_last_commit_date: 2023-04-25 09:49:25 -0400 (Tue, 25 Apr 2023) Package: faahKO Version: 1.40.0 Maintainer: Steffen Neumann MaintainerEmail: sneumann at ipb-halle.de