Package: faahKO Version: 1.40.0 Command: /home/biocbuild/bbs-3.17-bioc/R/bin/R CMD build --keep-empty-dirs --no-resave-data faahKO StartedAt: 2023-10-12 10:25:38 -0400 (Thu, 12 Oct 2023) EndedAt: 2023-10-12 10:26:26 -0400 (Thu, 12 Oct 2023) EllapsedTime: 48.1 seconds RetCode: 0 Status: OK PackageFile: faahKO_1.40.0.tar.gz PackageFileSize: 16.03 MiB