Package: faahKO Version: 1.40.0 Command: /home/biocbuild/bbs-3.17-bioc/R/bin/R CMD INSTALL faahKO StartedAt: 2023-10-12 10:07:45 -0400 (Thu, 12 Oct 2023) EndedAt: 2023-10-12 10:08:23 -0400 (Thu, 12 Oct 2023) EllapsedTime: 37.5 seconds RetCode: 0 Status: OK