git_url: https://git.bioconductor.org/packages/msigdb git_branch: RELEASE_3_17 git_last_commit: b90e9da git_last_commit_date: 2023-04-25 10:50:15 -0400 (Tue, 25 Apr 2023) Package: msigdb Version: 1.8.0 Maintainer: Dharmesh D. Bhuva MaintainerEmail: bhuva.d at wehi.edu.au