Package: msigdb Version: 1.8.0 Command: /home/biocbuild/bbs-3.17-bioc/R/bin/R CMD check --install=check:msigdb.install-out.txt --library=/home/biocbuild/bbs-3.17-bioc/R/site-library --timings msigdb_1.8.0.tar.gz StartedAt: 2023-10-12 11:44:19 -0400 (Thu, 12 Oct 2023) EndedAt: 2023-10-12 12:18:01 -0400 (Thu, 12 Oct 2023) EllapsedTime: 2022.1 seconds RetCode: 0 Status: WARNINGS CheckDir: msigdb.Rcheck Warnings: 1