Package: msigdb Version: 1.8.0 Command: /home/biocbuild/bbs-3.17-bioc/R/bin/R CMD INSTALL msigdb StartedAt: 2023-10-12 10:04:02 -0400 (Thu, 12 Oct 2023) EndedAt: 2023-10-12 10:04:05 -0400 (Thu, 12 Oct 2023) EllapsedTime: 2.2 seconds RetCode: 0 Status: OK