git_url: https://git.bioconductor.org/packages/simpIntLists git_branch: RELEASE_3_17 git_last_commit: a8d4321 git_last_commit_date: 2023-04-25 09:52:51 -0400 (Tue, 25 Apr 2023) Package: simpIntLists Version: 1.36.0 Maintainer: Kircicegi Korkmaz MaintainerEmail: e102771 at ceng.metu.edu.tr