Package: simpIntLists Version: 1.36.0 Command: /home/biocbuild/bbs-3.17-bioc/R/bin/R CMD build --keep-empty-dirs --no-resave-data simpIntLists StartedAt: 2023-10-12 10:51:20 -0400 (Thu, 12 Oct 2023) EndedAt: 2023-10-12 10:51:27 -0400 (Thu, 12 Oct 2023) EllapsedTime: 7.0 seconds RetCode: 0 Status: OK PackageFile: simpIntLists_1.36.0.tar.gz PackageFileSize: 4.366 MiB