Package: simpIntLists Version: 1.36.0 Command: /home/biocbuild/bbs-3.17-bioc/R/bin/R CMD check --install=check:simpIntLists.install-out.txt --library=/home/biocbuild/bbs-3.17-bioc/R/site-library --timings simpIntLists_1.36.0.tar.gz StartedAt: 2023-10-12 12:02:19 -0400 (Thu, 12 Oct 2023) EndedAt: 2023-10-12 12:03:24 -0400 (Thu, 12 Oct 2023) EllapsedTime: 65.0 seconds RetCode: 0 Status: WARNINGS CheckDir: simpIntLists.Rcheck Warnings: 1