Package: ABarray Version: 1.67.0 Command: /home/biocbuild/bbs-3.17-bioc/R/bin/R CMD INSTALL ABarray StartedAt: 2023-04-12 01:59:48 -0400 (Wed, 12 Apr 2023) EndedAt: 2023-04-12 01:59:59 -0400 (Wed, 12 Apr 2023) EllapsedTime: 11.2 seconds RetCode: 0 Status: OK