Package: AIMS Version: 1.31.0 Command: /home/biocbuild/bbs-3.17-bioc/R/bin/R CMD build --keep-empty-dirs --no-resave-data AIMS StartedAt: 2023-04-12 02:10:16 -0400 (Wed, 12 Apr 2023) EndedAt: 2023-04-12 02:10:31 -0400 (Wed, 12 Apr 2023) EllapsedTime: 15.1 seconds RetCode: 0 Status: OK PackageFile: AIMS_1.31.0.tar.gz PackageFileSize: 482.5 KiB