Package: AnVILPublish Version: 1.9.0 Command: /home/biocbuild/bbs-3.17-bioc/R/bin/R CMD build --keep-empty-dirs --no-resave-data AnVILPublish StartedAt: 2023-04-12 02:11:56 -0400 (Wed, 12 Apr 2023) EndedAt: 2023-04-12 02:12:04 -0400 (Wed, 12 Apr 2023) EllapsedTime: 8.1 seconds RetCode: 0 Status: OK PackageFile: AnVILPublish_1.9.0.tar.gz PackageFileSize: 236.8 KiB