Package: AnVILPublish Version: 1.9.0 Command: /home/biocbuild/bbs-3.17-bioc/R/bin/R CMD check --install=check:AnVILPublish.install-out.txt --library=/home/biocbuild/bbs-3.17-bioc/R/site-library --timings AnVILPublish_1.9.0.tar.gz StartedAt: 2023-04-12 04:41:20 -0400 (Wed, 12 Apr 2023) EndedAt: 2023-04-12 04:41:52 -0400 (Wed, 12 Apr 2023) EllapsedTime: 32.1 seconds RetCode: 0 Status: OK CheckDir: AnVILPublish.Rcheck Warnings: 0