Package: AnVILPublish Version: 1.9.0 Command: /home/biocbuild/bbs-3.17-bioc/R/bin/R CMD INSTALL AnVILPublish StartedAt: 2023-04-12 01:59:35 -0400 (Wed, 12 Apr 2023) EndedAt: 2023-04-12 01:59:43 -0400 (Wed, 12 Apr 2023) EllapsedTime: 8.0 seconds RetCode: 0 Status: OK