Package: AnnotationDbi Version: 1.61.2 Command: /home/biocbuild/bbs-3.17-bioc/R/bin/R CMD build --keep-empty-dirs --no-resave-data AnnotationDbi StartedAt: 2023-04-12 02:11:27 -0400 (Wed, 12 Apr 2023) EndedAt: 2023-04-12 02:12:19 -0400 (Wed, 12 Apr 2023) EllapsedTime: 52.3 seconds RetCode: 0 Status: OK PackageFile: AnnotationDbi_1.61.2.tar.gz PackageFileSize: 4.127 MiB