Package: AnnotationDbi Version: 1.61.2 Command: /home/biocbuild/bbs-3.17-bioc/R/bin/R CMD check --install=check:AnnotationDbi.install-out.txt --library=/home/biocbuild/bbs-3.17-bioc/R/site-library --timings AnnotationDbi_1.61.2.tar.gz StartedAt: 2023-04-12 04:39:59 -0400 (Wed, 12 Apr 2023) EndedAt: 2023-04-12 04:44:25 -0400 (Wed, 12 Apr 2023) EllapsedTime: 265.8 seconds RetCode: 0 Status: WARNINGS CheckDir: AnnotationDbi.Rcheck Warnings: 1