Package: BUSpaRse Version: 1.13.0 Command: /home/biocbuild/bbs-3.17-bioc/R/bin/R CMD check --install=check:BUSpaRse.install-out.txt --library=/home/biocbuild/bbs-3.17-bioc/R/site-library --timings BUSpaRse_1.13.0.tar.gz StartedAt: 2023-04-11 19:01:45 -0400 (Tue, 11 Apr 2023) EndedAt: 2023-04-11 19:12:08 -0400 (Tue, 11 Apr 2023) EllapsedTime: 622.6 seconds RetCode: 0 Status: OK CheckDir: BUSpaRse.Rcheck Warnings: 0