Package: BiFET Version: 1.19.0 Command: /home/biocbuild/bbs-3.17-bioc/R/bin/R CMD build --keep-empty-dirs --no-resave-data BiFET StartedAt: 2023-04-11 15:53:17 -0400 (Tue, 11 Apr 2023) EndedAt: 2023-04-11 15:54:07 -0400 (Tue, 11 Apr 2023) EllapsedTime: 50.5 seconds RetCode: 0 Status: OK PackageFile: BiFET_1.19.0.tar.gz PackageFileSize: 644.1 KiB