Package: BiFET Version: 1.19.0 Command: /home/biocbuild/bbs-3.17-bioc/R/bin/R CMD build --keep-empty-dirs --no-resave-data BiFET StartedAt: 2023-04-12 02:16:49 -0400 (Wed, 12 Apr 2023) EndedAt: 2023-04-12 02:17:46 -0400 (Wed, 12 Apr 2023) EllapsedTime: 57.2 seconds RetCode: 0 Status: OK PackageFile: BiFET_1.19.0.tar.gz PackageFileSize: 644.1 KiB