Package: BiSeq Version: 1.39.0 Command: /home/biocbuild/bbs-3.17-bioc/R/bin/R CMD INSTALL BiSeq StartedAt: 2023-04-11 15:31:18 -0400 (Tue, 11 Apr 2023) EndedAt: 2023-04-11 15:31:57 -0400 (Tue, 11 Apr 2023) EllapsedTime: 39.2 seconds RetCode: 0 Status: OK