Package: BiSeq Version: 1.39.0 Command: /home/biocbuild/bbs-3.17-bioc/R/bin/R CMD build --keep-empty-dirs --no-resave-data BiSeq StartedAt: 2023-04-12 02:19:49 -0400 (Wed, 12 Apr 2023) EndedAt: 2023-04-12 02:21:42 -0400 (Wed, 12 Apr 2023) EllapsedTime: 113.3 seconds RetCode: 0 Status: OK PackageFile: BiSeq_1.39.0.tar.gz PackageFileSize: 908.8 KiB