Package: BiSeq Version: 1.39.0 Command: /home/biocbuild/bbs-3.17-bioc/R/bin/R CMD check --install=check:BiSeq.install-out.txt --library=/home/biocbuild/bbs-3.17-bioc/R/site-library --timings BiSeq_1.39.0.tar.gz StartedAt: 2023-04-12 05:00:25 -0400 (Wed, 12 Apr 2023) EndedAt: 2023-04-12 05:07:52 -0400 (Wed, 12 Apr 2023) EllapsedTime: 447.2 seconds RetCode: 0 Status: OK CheckDir: BiSeq.Rcheck Warnings: 0