Package: BioMVCClass Version: 1.67.0 Command: /home/biocbuild/bbs-3.17-bioc/R/bin/R CMD check --install=check:BioMVCClass.install-out.txt --library=/home/biocbuild/bbs-3.17-bioc/R/site-library --timings BioMVCClass_1.67.0.tar.gz StartedAt: 2023-04-11 18:54:00 -0400 (Tue, 11 Apr 2023) EndedAt: 2023-04-11 18:54:32 -0400 (Tue, 11 Apr 2023) EllapsedTime: 31.3 seconds RetCode: 0 Status: OK CheckDir: BioMVCClass.Rcheck Warnings: 0