Package: BioMVCClass Version: 1.67.0 Command: /home/biocbuild/bbs-3.17-bioc/R/bin/R CMD check --install=check:BioMVCClass.install-out.txt --library=/home/biocbuild/bbs-3.17-bioc/R/site-library --timings BioMVCClass_1.67.0.tar.gz StartedAt: 2023-04-12 04:59:07 -0400 (Wed, 12 Apr 2023) EndedAt: 2023-04-12 04:59:38 -0400 (Wed, 12 Apr 2023) EllapsedTime: 31.1 seconds RetCode: 0 Status: OK CheckDir: BioMVCClass.Rcheck Warnings: 0