Package: BiocFHIR Version: 1.1.5 Command: /home/biocbuild/bbs-3.17-bioc/R/bin/R CMD INSTALL BiocFHIR StartedAt: 2023-04-12 01:45:43 -0400 (Wed, 12 Apr 2023) EndedAt: 2023-04-12 01:45:53 -0400 (Wed, 12 Apr 2023) EllapsedTime: 9.7 seconds RetCode: 0 Status: OK