git_url: https://git.bioconductor.org/packages/BiocGenerics git_branch: devel git_last_commit: 5d95680 git_last_commit_date: 2023-03-28 04:20:02 -0400 (Tue, 28 Mar 2023) Package: BiocGenerics Version: 0.45.3 Maintainer: Hervé Pagès MaintainerEmail: hpages.on.github at gmail.com