git_url: https://git.bioconductor.org/packages/BiocOncoTK git_branch: devel git_last_commit: 710b811 git_last_commit_date: 2023-03-18 05:54:03 -0400 (Sat, 18 Mar 2023) Package: BiocOncoTK Version: 1.19.3 Maintainer: VJ Carey MaintainerEmail: stvjc at channing.harvard.edu