Package: BiocOncoTK Version: 1.19.3 Command: /home/biocbuild/bbs-3.17-bioc/R/bin/R CMD INSTALL BiocOncoTK StartedAt: 2023-04-11 15:42:22 -0400 (Tue, 11 Apr 2023) EndedAt: 2023-04-11 15:43:13 -0400 (Tue, 11 Apr 2023) EllapsedTime: 51.2 seconds RetCode: 0 Status: OK