Package: BiocSingular Version: 1.15.0 Command: /home/biocbuild/bbs-3.17-bioc/R/bin/R CMD check --install=check:BiocSingular.install-out.txt --library=/home/biocbuild/bbs-3.17-bioc/R/site-library --timings BiocSingular_1.15.0.tar.gz StartedAt: 2023-04-11 18:51:31 -0400 (Tue, 11 Apr 2023) EndedAt: 2023-04-11 18:54:51 -0400 (Tue, 11 Apr 2023) EllapsedTime: 200.7 seconds RetCode: 0 Status: WARNINGS CheckDir: BiocSingular.Rcheck Warnings: 1