Package: BiocSingular Version: 1.15.0 Command: /home/biocbuild/bbs-3.17-bioc/R/bin/R CMD check --install=check:BiocSingular.install-out.txt --library=/home/biocbuild/bbs-3.17-bioc/R/site-library --timings BiocSingular_1.15.0.tar.gz StartedAt: 2023-04-12 04:57:01 -0400 (Wed, 12 Apr 2023) EndedAt: 2023-04-12 05:00:25 -0400 (Wed, 12 Apr 2023) EllapsedTime: 203.6 seconds RetCode: 0 Status: WARNINGS CheckDir: BiocSingular.Rcheck Warnings: 1