Package: BiocWorkflowTools Version: 1.25.0 Command: /home/biocbuild/bbs-3.17-bioc/R/bin/R CMD build --keep-empty-dirs --no-resave-data BiocWorkflowTools StartedAt: 2023-04-12 02:18:22 -0400 (Wed, 12 Apr 2023) EndedAt: 2023-04-12 02:18:27 -0400 (Wed, 12 Apr 2023) EllapsedTime: 5.0 seconds RetCode: 0 Status: OK PackageFile: BiocWorkflowTools_1.25.0.tar.gz PackageFileSize: 974.9 KiB