Package: CBEA Version: 0.99.4 Command: /home/biocbuild/bbs-3.17-bioc/R/bin/R CMD build --keep-empty-dirs --no-resave-data CBEA StartedAt: 2023-04-12 02:23:56 -0400 (Wed, 12 Apr 2023) EndedAt: 2023-04-12 02:25:11 -0400 (Wed, 12 Apr 2023) EllapsedTime: 74.3 seconds RetCode: 0 Status: OK PackageFile: CBEA_0.99.4.tar.gz PackageFileSize: 2.073 MiB