Package: CBEA Version: 0.99.4 Command: /home/biocbuild/bbs-3.17-bioc/R/bin/R CMD check --install=check:CBEA.install-out.txt --library=/home/biocbuild/bbs-3.17-bioc/R/site-library --timings CBEA_0.99.4.tar.gz StartedAt: 2023-04-12 05:09:39 -0400 (Wed, 12 Apr 2023) EndedAt: 2023-04-12 05:14:38 -0400 (Wed, 12 Apr 2023) EllapsedTime: 298.8 seconds RetCode: 0 Status: OK CheckDir: CBEA.Rcheck Warnings: 0