Package: CNORfeeder Version: 1.39.2 Command: /home/biocbuild/bbs-3.17-bioc/R/bin/R CMD INSTALL CNORfeeder StartedAt: 2023-04-12 01:44:24 -0400 (Wed, 12 Apr 2023) EndedAt: 2023-04-12 01:44:37 -0400 (Wed, 12 Apr 2023) EllapsedTime: 13.6 seconds RetCode: 0 Status: OK