Package: CODEX Version: 1.31.0 Command: /home/biocbuild/bbs-3.17-bioc/R/bin/R CMD check --install=check:CODEX.install-out.txt --library=/home/biocbuild/bbs-3.17-bioc/R/site-library --timings CODEX_1.31.0.tar.gz StartedAt: 2023-04-12 05:28:05 -0400 (Wed, 12 Apr 2023) EndedAt: 2023-04-12 05:34:58 -0400 (Wed, 12 Apr 2023) EllapsedTime: 413.1 seconds RetCode: 0 Status: OK CheckDir: CODEX.Rcheck Warnings: 0