Package: CSSQ Version: 1.11.0 Command: /home/biocbuild/bbs-3.17-bioc/R/bin/R CMD build --keep-empty-dirs --no-resave-data CSSQ StartedAt: 2023-04-11 16:14:43 -0400 (Tue, 11 Apr 2023) EndedAt: 2023-04-11 16:15:40 -0400 (Tue, 11 Apr 2023) EllapsedTime: 57.4 seconds RetCode: 0 Status: OK PackageFile: CSSQ_1.11.0.tar.gz PackageFileSize: 865.8 KiB