Package: Cardinal Version: 3.1.0 Command: /home/biocbuild/bbs-3.17-bioc/R/bin/R CMD build --keep-empty-dirs --no-resave-data Cardinal StartedAt: 2023-04-12 02:22:51 -0400 (Wed, 12 Apr 2023) EndedAt: 2023-04-12 02:25:22 -0400 (Wed, 12 Apr 2023) EllapsedTime: 150.5 seconds RetCode: 0 Status: OK PackageFile: Cardinal_3.1.0.tar.gz PackageFileSize: 3.432 MiB