Package: Cardinal Version: 3.1.0 Command: /home/biocbuild/bbs-3.17-bioc/R/bin/R CMD check --install=check:Cardinal.install-out.txt --library=/home/biocbuild/bbs-3.17-bioc/R/site-library --timings Cardinal_3.1.0.tar.gz StartedAt: 2023-04-12 05:07:52 -0400 (Wed, 12 Apr 2023) EndedAt: 2023-04-12 05:13:08 -0400 (Wed, 12 Apr 2023) EllapsedTime: 315.8 seconds RetCode: 0 Status: WARNINGS CheckDir: Cardinal.Rcheck Warnings: 1