Package: Cardinal Version: 3.1.0 Command: /home/biocbuild/bbs-3.17-bioc/R/bin/R CMD INSTALL Cardinal StartedAt: 2023-04-12 01:44:17 -0400 (Wed, 12 Apr 2023) EndedAt: 2023-04-12 01:45:22 -0400 (Wed, 12 Apr 2023) EllapsedTime: 65.2 seconds RetCode: 0 Status: OK