Package: ChIPComp Version: 1.29.0 Command: /home/biocbuild/bbs-3.17-bioc/R/bin/R CMD build --keep-empty-dirs --no-resave-data ChIPComp StartedAt: 2023-04-11 16:04:47 -0400 (Tue, 11 Apr 2023) EndedAt: 2023-04-11 16:05:52 -0400 (Tue, 11 Apr 2023) EllapsedTime: 65.4 seconds RetCode: 0 Status: OK PackageFile: ChIPComp_1.29.0.tar.gz PackageFileSize: 596.3 KiB